BEGIN:VCALENDAR
VERSION:2.0
PRODID:-//wp-events-plugin.com//7.2.3.1//EN
BEGIN:VEVENT
UID:79@shicryogenics.com
DTSTART;TZID=America/New_York;VALUE=DATE:20260907
DTEND;TZID=America/New_York;VALUE=DATE:20260911
DTSTAMP:20260113T165939Z
URL:https://shicryogenics.com/events/applied-superconductivity-conference-
 2026/
SUMMARY:Applied Superconductivity Conference 2026
DESCRIPTION:The 2026 Applied Superconductivity Conference will offer a foru
 m for sharing and discussing the latest updates and news in the field of a
 pplied superconductivity.  Visit Sumitomo (SHI) Cryogenics of America\, I
 nc. at Booth 300 from September 7-10\, 2026\, to explore our full range 
 of Gifford-McMahon and Pulse Tube Cryocoolers.
ATTACH;FMTTYPE=image/jpeg:https://shicryogenics.com/wp-content/uploads/202
 6/01/ASC-2026-Event-Listing.png
CATEGORIES:Cryocooler,Cryogenics,Physics,Superconductivity
LOCATION:David L. Lawrence Convention Center\, 1000 Fort Duquesne Blvd.\, P
 ittsburgh\, PA\, 15222\, United States
X-APPLE-STRUCTURED-LOCATION;VALUE=URI;X-ADDRESS=1000 Fort Duquesne Blvd.\, 
 Pittsburgh\, PA\, 15222\, United States;X-APPLE-RADIUS=100;X-TITLE=David L
 . Lawrence Convention Center:geo:0,0
END:VEVENT
BEGIN:VTIMEZONE
TZID:America/New_York
X-LIC-LOCATION:America/New_York
BEGIN:DAYLIGHT
DTSTART:20260308T030000
TZOFFSETFROM:-0500
TZOFFSETTO:-0400
TZNAME:EDT
END:DAYLIGHT
END:VTIMEZONE
END:VCALENDAR