BEGIN:VCALENDAR
VERSION:2.0
PRODID:-//wp-events-plugin.com//7.2.3.1//EN
BEGIN:VEVENT
UID:80@shicryogenics.com
DTSTART;TZID=America/Los_Angeles;VALUE=DATE:20261013
DTEND;TZID=America/Los_Angeles;VALUE=DATE:20261016
DTSTAMP:20260113T185153Z
URL:https://shicryogenics.com/events/semicon-west-2026/
SUMMARY:SEMICON West 2026
DESCRIPTION:SEMICON West 2026 returns to San Francisco!  Visit us at Persi
 mmon Technologies Corporation's booth\, 361\, to explore our range of SICE
 RA® cryopumps and cold traps for the semiconductor industry.
ATTACH;FMTTYPE=image/jpeg:https://shicryogenics.com/wp-content/uploads/202
 6/01/Semicon-West-2026-Event-Listing.png
CATEGORIES:Cryogenics,Cryopump,Semiconductor
LOCATION:Moscone Center\, 747 Howard St.\, San Francisco\, CA\, 94103\, Uni
 ted States
X-APPLE-STRUCTURED-LOCATION;VALUE=URI;X-ADDRESS=747 Howard St.\, San Franci
 sco\, CA\, 94103\, United States;X-APPLE-RADIUS=100;X-TITLE=Moscone Center
 :geo:0,0
END:VEVENT
BEGIN:VTIMEZONE
TZID:America/Los_Angeles
X-LIC-LOCATION:America/Los_Angeles
BEGIN:DAYLIGHT
DTSTART:20260308T030000
TZOFFSETFROM:-0800
TZOFFSETTO:-0700
TZNAME:PDT
END:DAYLIGHT
END:VTIMEZONE
END:VCALENDAR